BEGIN:VCALENDAR
VERSION:2.0
PRODID:-//Sustainary - ECPv6.15.20//NONSGML v1.0//EN
CALSCALE:GREGORIAN
METHOD:PUBLISH
X-WR-CALNAME:Sustainary
X-ORIGINAL-URL:https://sustainary.org
X-WR-CALDESC:Events for Sustainary
REFRESH-INTERVAL;VALUE=DURATION:PT1H
X-Robots-Tag:noindex
X-PUBLISHED-TTL:PT1H
BEGIN:VTIMEZONE
TZID:Europe/Copenhagen
BEGIN:DAYLIGHT
TZOFFSETFROM:+0100
TZOFFSETTO:+0200
TZNAME:CEST
DTSTART:20240331T010000
END:DAYLIGHT
BEGIN:STANDARD
TZOFFSETFROM:+0200
TZOFFSETTO:+0100
TZNAME:CET
DTSTART:20241027T010000
END:STANDARD
BEGIN:DAYLIGHT
TZOFFSETFROM:+0100
TZOFFSETTO:+0200
TZNAME:CEST
DTSTART:20250330T010000
END:DAYLIGHT
BEGIN:STANDARD
TZOFFSETFROM:+0200
TZOFFSETTO:+0100
TZNAME:CET
DTSTART:20251026T010000
END:STANDARD
BEGIN:DAYLIGHT
TZOFFSETFROM:+0100
TZOFFSETTO:+0200
TZNAME:CEST
DTSTART:20260329T010000
END:DAYLIGHT
BEGIN:STANDARD
TZOFFSETFROM:+0200
TZOFFSETTO:+0100
TZNAME:CET
DTSTART:20261025T010000
END:STANDARD
END:VTIMEZONE
BEGIN:VEVENT
DTSTART;TZID=Europe/Copenhagen:20250516T100000
DTEND;TZID=Europe/Copenhagen:20250516T153000
DTSTAMP:20260423T005338
CREATED:20250508T135555Z
LAST-MODIFIED:20260317T094059Z
UID:2542-1747389600-1747409400@sustainary.org
SUMMARY:Global Volunteer & Internship Festival 2025
DESCRIPTION:Free \n16th May 2025 \n10:00\nCopenhagen Business School \n\nApply  \n\nLooking to kick-start your career and make a global impact?\nJoin us at the Global Volunteer & Internship Festival 2025 – hosted by AIESEC in Denmark – the world’s largest student-run organization\, active in over 100 countries – and discover how you can take your next big step toward international experience and purpose-driven work. \nSustainary will be there too!\nSwing by our stand to learn about exciting internship opportunities in sustainability and innovation. Whether you’re passionate about green tech\, circular economy\, or climate action\, we’ve got roles that matter. \nLocation: Copenhagen Business School\nDate: Friday\, 16 May 2025\nTime: From 10:00 AM\nIf you’re a student or recent grad ready to explore the world while doing meaningful work\, this event is for you. \nLet’s shape a more sustainable future—together.
URL:https://sustainary.org/events/global-volunteer-internship-festival-2025/
LOCATION:Velux Auditorium\, Copenhagen Business School\, Frederiksberg\, Denmark
CATEGORIES:Volunteer
ATTACH;FMTTYPE=image/jpeg:https://sustainary.org/wp-content/uploads/2025/05/3.jpg
ORGANIZER;CN="AIESEC":MAILTO:bd@aiesec.dk
END:VEVENT
END:VCALENDAR